BEGIN:VCALENDAR
VERSION:2.0
PRODID:researchseminars.org
CALSCALE:GREGORIAN
X-WR-CALNAME:researchseminars.org
BEGIN:VEVENT
SUMMARY:Lequan Yu (Stanford University)
DTSTART:20210202T160000Z
DTEND:20210202T170000Z
DTSTAMP:20260423T034448Z
UID:DSCSS/15
DESCRIPTION:Title: <a href="https://researchseminars.org/talk/DSCSS/15/">M
 edical Image Analysis with Data-efficient Learning</a>\nby Lequan Yu (Stan
 ford University) as part of Data Science and Computational Statistics Semi
 nar\n\nAbstract: TBA\n
LOCATION:https://researchseminars.org/talk/DSCSS/15/
END:VEVENT
END:VCALENDAR
