BEGIN:VCALENDAR
VERSION:2.0
PRODID:researchseminars.org
CALSCALE:GREGORIAN
X-WR-CALNAME:researchseminars.org
BEGIN:VEVENT
SUMMARY:Laura Sanità (Bocconi University)
DTSTART:20220923T170000Z
DTEND:20220923T173000Z
DTSTAMP:20260423T021826Z
UID:DOTs/43
DESCRIPTION:Title: <a href="https://researchseminars.org/talk/DOTs/43/">On
  the Simplex method for 0/1 polytopes</a>\nby Laura Sanità (Bocconi Unive
 rsity) as part of Discrete Optimization Talks\n\nAbstract: TBA\n
LOCATION:https://researchseminars.org/talk/DOTs/43/
END:VEVENT
END:VCALENDAR
