BEGIN:VCALENDAR
VERSION:2.0
PRODID:researchseminars.org
CALSCALE:GREGORIAN
X-WR-CALNAME:researchseminars.org
BEGIN:VEVENT
SUMMARY:Austin Buchanan (Oklahoma State University)
DTSTART:20200623T183000Z
DTEND:20200623T190000Z
DTSTAMP:20260423T021859Z
UID:DOTs/16
DESCRIPTION:Title: <a href="https://researchseminars.org/talk/DOTs/16/">Im
 posing contiguity constraints in political districting models</a>\nby Aust
 in Buchanan (Oklahoma State University) as part of Discrete Optimization T
 alks\n\nAbstract: TBA\n
LOCATION:https://researchseminars.org/talk/DOTs/16/
END:VEVENT
END:VCALENDAR
