BEGIN:VCALENDAR
VERSION:2.0
PRODID:researchseminars.org
CALSCALE:GREGORIAN
X-WR-CALNAME:researchseminars.org
BEGIN:VEVENT
SUMMARY:Fridrich Valach
DTSTART:20230207T133000Z
DTEND:20230207T143000Z
DTSTAMP:20260423T021222Z
UID:DGSTO/39
DESCRIPTION:Title: <a href="https://researchseminars.org/talk/DGSTO/39/">C
 ourant algebroids and supergravity</a>\nby Fridrich Valach as part of Diff
 erential Geometry Seminar Torino\n\nAbstract: TBA\n
LOCATION:https://researchseminars.org/talk/DGSTO/39/
END:VEVENT
END:VCALENDAR
