BEGIN:VCALENDAR
VERSION:2.0
PRODID:researchseminars.org
CALSCALE:GREGORIAN
X-WR-CALNAME:researchseminars.org
BEGIN:VEVENT
SUMMARY:Giovanni Barbarino (Aalto University)
DTSTART:20201102T140000Z
DTEND:20201102T150000Z
DTSTAMP:20260423T052449Z
UID:CommNLA/1
DESCRIPTION:Title: <a href="https://researchseminars.org/talk/CommNLA/1/">
 The limit empirical spectral distribution of complex matrix polynomials</a
 >\nby Giovanni Barbarino (Aalto University) as part of Communications in N
 umerical Linear Algebra\n\nAbstract: TBA\n
LOCATION:https://researchseminars.org/talk/CommNLA/1/
END:VEVENT
END:VCALENDAR
