BEGIN:VCALENDAR
VERSION:2.0
PRODID:researchseminars.org
CALSCALE:GREGORIAN
X-WR-CALNAME:researchseminars.org
BEGIN:VEVENT
SUMMARY:George Boxer (ENS de Lyon)
DTSTART:20210126T143000Z
DTEND:20210126T153000Z
DTSTAMP:20260421T153213Z
UID:CamNT/8
DESCRIPTION:Title: <a href="https://researchseminars.org/talk/CamNT/8/">Hi
 gher Coleman Theory</a>\nby George Boxer (ENS de Lyon) as part of Cambridg
 e Number Theory Seminar\n\n\nAbstract\nThe goal of Higher Coleman Theory i
 s to introduce higher coherent cohomological analogs of overconvergent mod
 ular forms on Shimura varieties and to explain how they relate to classica
 l automorphic forms. We also discuss how they vary in p-adic families. Thi
 s is joint work with Vincent Pilloni.\n
LOCATION:https://researchseminars.org/talk/CamNT/8/
END:VEVENT
END:VCALENDAR
