BEGIN:VCALENDAR
VERSION:2.0
PRODID:researchseminars.org
CALSCALE:GREGORIAN
X-WR-CALNAME:researchseminars.org
BEGIN:VEVENT
SUMMARY:Judit Prat (U Chicago)
DTSTART:20211005T153000Z
DTEND:20211005T163000Z
DTSTAMP:20260423T021305Z
UID:CWRUPAT/5
DESCRIPTION:Title: <a href="https://researchseminars.org/talk/CWRUPAT/5/">
 Cosmology from weak lensing and galaxy clustering in the Dark Energy Surve
 y</a>\nby Judit Prat (U Chicago) as part of CWRU Particle/Astro/Theory Sem
 inars\n\nAbstract: TBA\n
LOCATION:https://researchseminars.org/talk/CWRUPAT/5/
END:VEVENT
END:VCALENDAR
