BEGIN:VCALENDAR
VERSION:2.0
PRODID:researchseminars.org
CALSCALE:GREGORIAN
X-WR-CALNAME:researchseminars.org
BEGIN:VEVENT
SUMMARY:Markus Luty (UC Davis)
DTSTART:20210921T153000Z
DTEND:20210921T163000Z
DTSTAMP:20260423T035746Z
UID:CWRUPAT/3
DESCRIPTION:Title: <a href="https://researchseminars.org/talk/CWRUPAT/3/">
 Hamiltonian Truncation and the Future of Numerical Quantum Field Theory</a
 >\nby Markus Luty (UC Davis) as part of CWRU Particle/Astro/Theory Seminar
 s\n\nAbstract: TBA\n
LOCATION:https://researchseminars.org/talk/CWRUPAT/3/
END:VEVENT
END:VCALENDAR
