BEGIN:VCALENDAR
VERSION:2.0
PRODID:researchseminars.org
CALSCALE:GREGORIAN
X-WR-CALNAME:researchseminars.org
BEGIN:VEVENT
SUMMARY:Allen Foster (CWRU)
DTSTART:20210907T153000Z
DTEND:20210907T163000Z
DTSTAMP:20260423T021241Z
UID:CWRUPAT/1
DESCRIPTION:Title: <a href="https://researchseminars.org/talk/CWRUPAT/1/">
 Observing the Time-Variable mm-Wave Sky with SPT-3G</a>\nby Allen Foster (
 CWRU) as part of CWRU Particle/Astro/Theory Seminars\n\nAbstract: TBA\n
LOCATION:https://researchseminars.org/talk/CWRUPAT/1/
END:VEVENT
END:VCALENDAR
