BEGIN:VCALENDAR
VERSION:2.0
PRODID:researchseminars.org
CALSCALE:GREGORIAN
X-WR-CALNAME:researchseminars.org
BEGIN:VEVENT
SUMMARY:David Savitt (Johns Hopkins)
DTSTART:20200614T180500Z
DTEND:20200614T184500Z
DTSTAMP:20260423T040005Z
UID:CTNT/9
DESCRIPTION:Title: <a href="https://researchseminars.org/talk/CTNT/9/">Mod
 uli of Galois representations</a>\nby David Savitt (Johns Hopkins) as part
  of CTNT Research Conference\n\nAbstract: TBA\n
LOCATION:https://researchseminars.org/talk/CTNT/9/
END:VEVENT
END:VCALENDAR
