BEGIN:VCALENDAR
VERSION:2.0
PRODID:researchseminars.org
CALSCALE:GREGORIAN
X-WR-CALNAME:researchseminars.org
BEGIN:VEVENT
SUMMARY:Asher Auel (Dartmouth)
DTSTART:20200614T140500Z
DTEND:20200614T144500Z
DTSTAMP:20260423T022732Z
UID:CTNT/7
DESCRIPTION:Title: <a href="https://researchseminars.org/talk/CTNT/7/">Ell
 iptic curves and the local-global principle for quadratic forms</a>\nby As
 her Auel (Dartmouth) as part of CTNT Research Conference\n\nAbstract: TBA\
 n
LOCATION:https://researchseminars.org/talk/CTNT/7/
END:VEVENT
END:VCALENDAR
