BEGIN:VCALENDAR
VERSION:2.0
PRODID:researchseminars.org
CALSCALE:GREGORIAN
X-WR-CALNAME:researchseminars.org
BEGIN:VEVENT
SUMMARY:Wanlin Li (MIT)
DTSTART:20200613T151500Z
DTEND:20200613T155500Z
DTSTAMP:20260423T041032Z
UID:CTNT/5
DESCRIPTION:Title: <a href="https://researchseminars.org/talk/CTNT/5/">Cer
 esa class and hyperelliptic curves</a>\nby Wanlin Li (MIT) as part of CTNT
  Research Conference\n\nAbstract: TBA\n
LOCATION:https://researchseminars.org/talk/CTNT/5/
END:VEVENT
END:VCALENDAR
