BEGIN:VCALENDAR
VERSION:2.0
PRODID:researchseminars.org
CALSCALE:GREGORIAN
X-WR-CALNAME:researchseminars.org
BEGIN:VEVENT
SUMMARY:Jeffrey Yelton (Emory)
DTSTART:20200613T173000Z
DTEND:20200613T175000Z
DTSTAMP:20260423T005833Z
UID:CTNT/15
DESCRIPTION:Title: <a href="https://researchseminars.org/talk/CTNT/15/">Se
 mistable models of hyperelliptic curves over residue characteristic 2</a>\
 nby Jeffrey Yelton (Emory) as part of CTNT Research Conference\n\nAbstract
 : TBA\n
LOCATION:https://researchseminars.org/talk/CTNT/15/
END:VEVENT
END:VCALENDAR
