BEGIN:VCALENDAR
VERSION:2.0
PRODID:researchseminars.org
CALSCALE:GREGORIAN
X-WR-CALNAME:researchseminars.org
BEGIN:VEVENT
SUMMARY:Pete L. Clark (UGA)
DTSTART:20200612T140000Z
DTEND:20200612T144500Z
DTSTAMP:20260423T040002Z
UID:CTNT/1
DESCRIPTION:Title: <a href="https://researchseminars.org/talk/CTNT/1/">CM 
 points on modular curves</a>\nby Pete L. Clark (UGA) as part of CTNT Resea
 rch Conference\n\nAbstract: TBA\n
LOCATION:https://researchseminars.org/talk/CTNT/1/
END:VEVENT
END:VCALENDAR
