BEGIN:VCALENDAR
VERSION:2.0
PRODID:researchseminars.org
CALSCALE:GREGORIAN
X-WR-CALNAME:researchseminars.org
BEGIN:VEVENT
SUMMARY:Rod Downey (Victoria University of Wellington)
DTSTART:20200708T010000Z
DTEND:20200708T020000Z
DTSTAMP:20260423T004821Z
UID:CTA/11
DESCRIPTION:Title: <a href="https://researchseminars.org/talk/CTA/11/">Sac
 ks' Splitting Theorem Re-examined (again)</a>\nby Rod Downey (Victoria Uni
 versity of Wellington) as part of Computability theory and applications\n\
 nAbstract: TBA\n
LOCATION:https://researchseminars.org/talk/CTA/11/
END:VEVENT
END:VCALENDAR
