BEGIN:VCALENDAR
VERSION:2.0
PRODID:researchseminars.org
CALSCALE:GREGORIAN
X-WR-CALNAME:researchseminars.org
BEGIN:VEVENT
SUMMARY:Jean-Pierre Eckmann (University of Geneva\, Switzerland)
DTSTART:20201208T150000Z
DTEND:20201208T160000Z
DTSTAMP:20260423T024736Z
UID:CRM-CAMP/25
DESCRIPTION:Title: <a href="https://researchseminars.org/talk/CRM-CAMP/25/
 ">CRM-CAMP Colloquium</a>\nby Jean-Pierre Eckmann (University of Geneva\, 
 Switzerland) as part of CRM CAMP (Computer-Assisted Mathematical Proofs) i
 n Nonlinear Analysis\n\nAbstract: TBA\n
LOCATION:https://researchseminars.org/talk/CRM-CAMP/25/
END:VEVENT
END:VCALENDAR
