BEGIN:VCALENDAR
VERSION:2.0
PRODID:researchseminars.org
CALSCALE:GREGORIAN
X-WR-CALNAME:researchseminars.org
BEGIN:VEVENT
SUMMARY:Kurt Keville (MIT)
DTSTART:20210604T160000Z
DTEND:20210604T170000Z
DTSTAMP:20260423T005813Z
UID:CRIBB/8
DESCRIPTION:Title: <a href="https://researchseminars.org/talk/CRIBB/8/">Bi
 g Memory servers and modern approaches to disk-based computation</a>\nby K
 urt Keville (MIT) as part of Computational Research in Boston and Beyond S
 eminar (CRIBB)\n\n\nAbstract\nThere is a new computing paradigm available 
 today facilitated by commodity server platforms. It is often called Big Me
 mory solutions because it exposes a large RAM subsystem to the Operating S
 ystem and therefore afford the application programmer a number of previous
 ly unavailable options for data management. Additionally\, certain vendor-
 specific solutions offer additional memory management options that pay div
 idends in data reliability and access speeds. A survey of these offerings 
 and the promise of massive memory compute will be discussed.\n\n          
                              ZOOM MEETING info:\n\n                       
             https://mit.zoom.us/j/96155042770\n\n                         
            Meeting ID: 961 5504 2770\n
LOCATION:https://researchseminars.org/talk/CRIBB/8/
END:VEVENT
END:VCALENDAR
