BEGIN:VCALENDAR
VERSION:2.0
PRODID:researchseminars.org
CALSCALE:GREGORIAN
X-WR-CALNAME:researchseminars.org
BEGIN:VEVENT
SUMMARY:Sean Carroll (Caltech)
DTSTART:20210203T170000Z
DTEND:20210203T180000Z
DTSTAMP:20260423T040541Z
UID:CMU-TP/26
DESCRIPTION:Title: <a href="https://researchseminars.org/talk/CMU-TP/26/">
 Extracting the Universe from the Wave Function</a>\nby Sean Carroll (Calte
 ch) as part of Carnegie Mellon theoretical physics\n\n\nAbstract\nQuantum 
 mechanics is a theory of wave functions in Hilbert space. Many features th
 at we generally take for granted when we use quantum mechanics -- classica
 l spacetime\, locality\, the system/environment split\, collapse/branching
 \, preferred observables\, the Born rule for probabilities -- should in pr
 inciple be derivable from the basic ingredients of the quantum state and t
 he Hamiltonian. I will discuss recent progress on these problems\, includi
 ng consequences for cosmology and quantum gravity.\n
LOCATION:https://researchseminars.org/talk/CMU-TP/26/
END:VEVENT
END:VCALENDAR
