BEGIN:VCALENDAR
VERSION:2.0
PRODID:researchseminars.org
CALSCALE:GREGORIAN
X-WR-CALNAME:researchseminars.org
BEGIN:VEVENT
SUMMARY:Khanh Nguyen Duc (State University of New York at Albany)
DTSTART:20221222T151500Z
DTEND:20221222T170000Z
DTSTAMP:20260422T065901Z
UID:CJCS/99
DESCRIPTION:Title: <a href="https://researchseminars.org/talk/CJCS/99/">Ne
 wton polytope of good symmetric functions</a>\nby Khanh Nguyen Duc (State 
 University of New York at Albany) as part of Copenhagen-Jerusalem Combinat
 orics Seminar\n\n\nAbstract\nWe introduce a general class of symmetric fun
 ctions that has saturated Newton polytope and their Newton polytope has in
 teger decomposition property. The class covers numerous previously studied
  symmetric functions.\n
LOCATION:https://researchseminars.org/talk/CJCS/99/
END:VEVENT
END:VCALENDAR
