BEGIN:VCALENDAR
VERSION:2.0
PRODID:researchseminars.org
CALSCALE:GREGORIAN
X-WR-CALNAME:researchseminars.org
BEGIN:VEVENT
SUMMARY:Cosmin Pohoata (IAS School of Math)
DTSTART:20230209T151500Z
DTEND:20230209T170000Z
DTSTAMP:20260422T065959Z
UID:CJCS/98
DESCRIPTION:Title: <a href="https://researchseminars.org/talk/CJCS/98/">Co
 nvexity\, color avoidance\, and total domination</a>\nby Cosmin Pohoata (I
 AS School of Math) as part of Copenhagen-Jerusalem Combinatorics Seminar\n
 \n\nAbstract\nIn this talk\, I will discuss a few old and new hypergraph c
 oloring questions which arise in the context of the Erdős-Szekeres proble
 m in three dimensions\, along with recent (partial) progress on some of th
 em and various speculations.\n
LOCATION:https://researchseminars.org/talk/CJCS/98/
END:VEVENT
END:VCALENDAR
