BEGIN:VCALENDAR
VERSION:2.0
PRODID:researchseminars.org
CALSCALE:GREGORIAN
X-WR-CALNAME:researchseminars.org
BEGIN:VEVENT
SUMMARY:Thang Pham (Vietnam National University)
DTSTART:20211007T141500Z
DTEND:20211007T160000Z
DTSTAMP:20260422T065710Z
UID:CJCS/29
DESCRIPTION:Title: <a href="https://researchseminars.org/talk/CJCS/29/">Po
 int-sphere incidence bounds in finite spaces</a>\nby Thang Pham (Vietnam N
 ational University) as part of Copenhagen-Jerusalem Combinatorics Seminar\
 n\n\nAbstract\nIn this talk\, I present an approach to study the point-sph
 ere incidence problem in the vector spaces over finite fields by using res
 ults from restriction theory. This is joint work with Doowon Koh and Sujin
  Lee.\n
LOCATION:https://researchseminars.org/talk/CJCS/29/
END:VEVENT
END:VCALENDAR
