BEGIN:VCALENDAR
VERSION:2.0
PRODID:researchseminars.org
CALSCALE:GREGORIAN
X-WR-CALNAME:researchseminars.org
BEGIN:VEVENT
SUMMARY:Manfred Scheucher (TU Berlin)
DTSTART:20210121T150000Z
DTEND:20210121T170000Z
DTSTAMP:20260422T065638Z
UID:CJCS/1
DESCRIPTION:Title: <a href="https://researchseminars.org/talk/CJCS/1/">Usi
 ng SAT Solvers in Combinatorics and Geometry</a>\nby Manfred Scheucher (TU
  Berlin) as part of Copenhagen-Jerusalem Combinatorics Seminar\n\nAbstract
 : TBA\n
LOCATION:https://researchseminars.org/talk/CJCS/1/
END:VEVENT
END:VCALENDAR
