BEGIN:VCALENDAR
VERSION:2.0
PRODID:researchseminars.org
CALSCALE:GREGORIAN
X-WR-CALNAME:researchseminars.org
BEGIN:VEVENT
SUMMARY:Vaibhav Gadre (Univ. of Glasgow)
DTSTART:20200619T150000Z
DTEND:20200619T163000Z
DTSTAMP:20260423T005727Z
UID:CIRGET/8
DESCRIPTION:Title: <a href="https://researchseminars.org/talk/CIRGET/8/">S
 tatistical hyperbolicity of Teichmuller spaces</a>\nby Vaibhav Gadre (Univ
 . of Glasgow) as part of CRM - Séminaire du CIRGET / Géométrie et Topol
 ogie\n\n\nAbstract\nThe notion of statistical hyperbolicity introduced by 
 Duchin-Lelievre-Mooney encapsulates whether a space is on average hyperbol
 ic at large scales\, that is\, whether average distance between pairs of p
 oints on large spheres of radius R is 2R. In this talk\, I will explain ho
 w Teichmuller spaces are statistically hyperbolic with respect to stationa
 ry measures arising random walks on mapping class groups. This is joint wo
 rk with Aitor Azemar and Luke Jeffreys and extends previous work of Dowdal
 l-Duchin-Masur.\n
LOCATION:https://researchseminars.org/talk/CIRGET/8/
END:VEVENT
END:VCALENDAR
