BEGIN:VCALENDAR
VERSION:2.0
PRODID:researchseminars.org
CALSCALE:GREGORIAN
X-WR-CALNAME:researchseminars.org
BEGIN:VEVENT
SUMMARY:Joel Kamnitzer (University of Toronto)
DTSTART:20220506T150000Z
DTEND:20220506T161500Z
DTSTAMP:20260423T005711Z
UID:CIRGET/67
DESCRIPTION:Title: <a href="https://researchseminars.org/talk/CIRGET/67/">
 Symplectic duality and affine Grassmannian slices</a>\nby Joel Kamnitzer (
 University of Toronto) as part of CRM - Séminaire du CIRGET / Géométrie
  et Topologie\n\n\nAbstract\nSymplectic resolutions are an exciting new fr
 ontier of research in geometry and representation theory.  One of the most
  fascinating aspects of this study is symplectic duality: the observation 
 that these resolutions come in pairs with matching properties.  The Coulom
 b\nbranch construction allows us to produce and study many of these dual p
 airs.   I will attempt to survey recent work in this area\, particularly f
 ocusing on ADE quiver varieties and affine Grassmannian slices.\n
LOCATION:https://researchseminars.org/talk/CIRGET/67/
END:VEVENT
END:VCALENDAR
