BEGIN:VCALENDAR
VERSION:2.0
PRODID:researchseminars.org
CALSCALE:GREGORIAN
X-WR-CALNAME:researchseminars.org
BEGIN:VEVENT
SUMMARY:Louis Ioos (Max Planck Institute\, Bonn)
DTSTART:20220311T160000Z
DTEND:20220311T171500Z
DTSTAMP:20260423T022737Z
UID:CIRGET/61
DESCRIPTION:Title: <a href="https://researchseminars.org/talk/CIRGET/61/">
 Quantization methods in the Yau-Tian-Donaldson program</a>\nby Louis Ioos 
 (Max Planck Institute\, Bonn) as part of CRM - Séminaire du CIRGET / Géo
 métrie et Topologie\n\n\nAbstract\nA celebrated conjecture of Yau states 
 that the existence of a Kähler metric\nwith constant scalar curvature on 
 a projective manifold should be equivalent to a purely\nalgebraic stabilit
 y condition. Much progress has been done on this conjecture in the\npast d
 ecades\, culminating in what is now called the Yau-Tian-Donaldson program.
 \nIn this talk\, I will explain the key role played by quantization method
 s in this program\,\nand how they can be improved using a semiclassical es
 timate of the quantum noise of\nBerezin-Toeplitz quantization. This is par
 tly based on joint works in collaboration with\nVictoria Kaminker\, Leonid
  Polterovich and Dor Shmoish.\n
LOCATION:https://researchseminars.org/talk/CIRGET/61/
END:VEVENT
END:VCALENDAR
