BEGIN:VCALENDAR
VERSION:2.0
PRODID:researchseminars.org
CALSCALE:GREGORIAN
X-WR-CALNAME:researchseminars.org
BEGIN:VEVENT
SUMMARY:Nathan Grieve (RMC/Carleton/UQAM)
DTSTART:20211210T160000Z
DTEND:20211210T171500Z
DTSTAMP:20260423T024545Z
UID:CIRGET/51
DESCRIPTION:Title: <a href="https://researchseminars.org/talk/CIRGET/51/">
 On topics that surround the Cone Theorem\, K-stability and Diophantine Ari
 thmetic Geometry</a>\nby Nathan Grieve (RMC/Carleton/UQAM) as part of CRM 
 - Séminaire du CIRGET / Géométrie et Topologie\n\n\nAbstract\nI will su
 rvey concepts that are near to the Cone Theorem and MMP (for klt pairs)\, 
 the question of K-stability for polarized projective varieties and their D
 iophantine arithmetic consequences.  In doing so\, I will report on some r
 ecent and ongoing work.  As one example\, I intend to propose a concept of
  slope stability\, for polarized projective varieties\, from the viewpoint
  of the extremal ray theory.  The idea is that it should extend the tradit
 ional concept of slope stability\, which is measured along a subvariety.\n
LOCATION:https://researchseminars.org/talk/CIRGET/51/
END:VEVENT
END:VCALENDAR
