BEGIN:VCALENDAR
VERSION:2.0
PRODID:researchseminars.org
CALSCALE:GREGORIAN
X-WR-CALNAME:researchseminars.org
BEGIN:VEVENT
SUMMARY:Antonio Alfieri (University of British Columbia)
DTSTART:20210326T150000Z
DTEND:20210326T161500Z
DTSTAMP:20260423T022740Z
UID:CIRGET/36
DESCRIPTION:Title: <a href="https://researchseminars.org/talk/CIRGET/36/">
 Symmetric knots and Floer homologies</a>\nby Antonio Alfieri (University o
 f British Columbia) as part of CRM - Séminaire du CIRGET / Géométrie et
  Topologie\n\n\nAbstract\nI will discuss some open problems\, and survey s
 ome classical material regarding symmetric knots\, and group actions on 3-
  and 4-manifolds. In the second part of the talk I will discuss how techni
 ques from Floer theory can be employed to approach some of these problems.
  Part of this is joint work with Irving Dai\, Abhishek Mallick\, and Sungk
 yung Kang.\n
LOCATION:https://researchseminars.org/talk/CIRGET/36/
END:VEVENT
END:VCALENDAR
