BEGIN:VCALENDAR
VERSION:2.0
PRODID:researchseminars.org
CALSCALE:GREGORIAN
X-WR-CALNAME:researchseminars.org
BEGIN:VEVENT
SUMMARY:Andrew Lobb (University of Durham\, UK)
DTSTART:20200911T150000Z
DTEND:20200911T161500Z
DTSTAMP:20260423T005715Z
UID:CIRGET/13
DESCRIPTION:Title: <a href="https://researchseminars.org/talk/CIRGET/13/">
 The rectangular peg problem</a>\nby Andrew Lobb (University of Durham\, UK
 ) as part of CRM - Séminaire du CIRGET / Géométrie et Topologie\n\nAbst
 ract: TBA\n
LOCATION:https://researchseminars.org/talk/CIRGET/13/
END:VEVENT
END:VCALENDAR
