BEGIN:VCALENDAR
VERSION:2.0
PRODID:researchseminars.org
CALSCALE:GREGORIAN
X-WR-CALNAME:researchseminars.org
BEGIN:VEVENT
SUMMARY:Livio Liechti (Université de Fribourg)
DTSTART:20200724T150000Z
DTEND:20200724T161500Z
DTSTAMP:20260423T005702Z
UID:CIRGET/12
DESCRIPTION:Title: <a href="https://researchseminars.org/talk/CIRGET/12/">
 Divide knots of maximal genus defect</a>\nby Livio Liechti (Université de
  Fribourg) as part of CRM - Séminaire du CIRGET / Géométrie et Topologi
 e\n\nAbstract: TBA\n
LOCATION:https://researchseminars.org/talk/CIRGET/12/
END:VEVENT
END:VCALENDAR
