BEGIN:VCALENDAR
VERSION:2.0
PRODID:researchseminars.org
CALSCALE:GREGORIAN
X-WR-CALNAME:researchseminars.org
BEGIN:VEVENT
SUMMARY:Nicholas Proudfoot (University of Oregon)
DTSTART:20240501T160000Z
DTEND:20240501T170000Z
DTSTAMP:20260423T021427Z
UID:CG-BLT/3
DESCRIPTION:Title: <a href="https://researchseminars.org/talk/CG-BLT/3/">C
 ategorical valuations for polytopes and matroids</a>\nby Nicholas Proudfoo
 t (University of Oregon) as part of Combinatorics and Geometry BLT Seminar
 \n\n\nAbstract\nValuations of matroids are very useful and very mysterious
 .  After taking some time to explain this concept\, I will categorify it\,
  with the aim of making it both more useful and less mysterious.\n
LOCATION:https://researchseminars.org/talk/CG-BLT/3/
END:VEVENT
END:VCALENDAR
