BEGIN:VCALENDAR
VERSION:2.0
PRODID:researchseminars.org
CALSCALE:GREGORIAN
X-WR-CALNAME:researchseminars.org
BEGIN:VEVENT
SUMMARY:prof. Andrzej Bielecki (Pedagogical University of Krakow)
DTSTART:20211117T131400Z
DTEND:20211117T141400Z
DTSTAMP:20260423T053045Z
UID:CFQI/9
DESCRIPTION:Title: <a href="https://researchseminars.org/talk/CFQI/9/">Wni
 oskowanie rozmyte – podstawy i zastosowania do analizy konturów</a>\nby
  prof. Andrzej Bielecki (Pedagogical University of Krakow) as part of Comp
 uter Physics and Quantum Informatics Seminar\n\nLecture held in 421N.\nAbs
 tract: TBA\n
LOCATION:https://researchseminars.org/talk/CFQI/9/
END:VEVENT
END:VCALENDAR
