BEGIN:VCALENDAR
VERSION:2.0
PRODID:researchseminars.org
CALSCALE:GREGORIAN
X-WR-CALNAME:researchseminars.org
BEGIN:VEVENT
SUMMARY:Wojciech Broniowski (Instytut Fizyki Jądrowej PAN w Krakowie i Un
 iwersytet Jana Kochanowskiego w Kielcach)
DTSTART:20220310T131400Z
DTEND:20220310T141400Z
DTSTAMP:20260423T005817Z
UID:CFQI/12
DESCRIPTION:Title: <a href="https://researchseminars.org/talk/CFQI/12/">Wy
 konywalne książki: nowa pomoc dla studentów informatyki</a>\nby Wojciec
 h Broniowski (Instytut Fizyki Jądrowej PAN w Krakowie i Uniwersytet Jana 
 Kochanowskiego w Kielcach) as part of Computer Physics and Quantum Informa
 tics Seminar\n\nLecture held in 421N.\n\nAbstract\nPrzedstawię\, jak moż
 na w łatwy sposób sporządzić książkę (Jupyter Book)\, zawierającą
  wykonywalne programy w Pythonie. Programy nie wymagają żadnej instalacj
 i\, a student może je dowolnie modyfikować\, zmieniać parametry itp. Wi
 elu z nas ma wykłady dot. programowania w Pythonie\, gdzie wykonywalna ks
 iążka jest świetnym sposobem uporządkowania notatek i dania studentom 
 znakomitej pomocy dydaktycznej. Opowiem też\, jak opublikować książkę
  w Google Books.\n
LOCATION:https://researchseminars.org/talk/CFQI/12/
END:VEVENT
END:VCALENDAR
