BEGIN:VCALENDAR
VERSION:2.0
PRODID:researchseminars.org
CALSCALE:GREGORIAN
X-WR-CALNAME:researchseminars.org
BEGIN:VEVENT
SUMMARY:Taishi Ikeda (CENTRA\, Instituto Superior Tecnico)
DTSTART:20200702T133000Z
DTEND:20200702T143000Z
DTSTAMP:20260423T021235Z
UID:CENTRA/11
DESCRIPTION:Title: <a href="https://researchseminars.org/talk/CENTRA/11/">
 Massive scalar field around black hole binary and gravitational molecules<
 /a>\nby Taishi Ikeda (CENTRA\, Instituto Superior Tecnico) as part of CENT
 RA Seminar\n\n\nAbstract\nBlack hole binaries are one of the main sources 
 of gravitational waves. In the age of gravitational wave astronomy\, we mu
 st understand many properties about black hole binaries.\nIn this talk\, I
  will talk about new bound states of massive fields around the binaries. W
 e numerically construct the bound states and discuss the fundamental prope
 rties. The bound state can be understood as an analogy of quantum mechanic
 s of molecules which is a solvable model.\n
LOCATION:https://researchseminars.org/talk/CENTRA/11/
END:VEVENT
END:VCALENDAR
