BEGIN:VCALENDAR
VERSION:2.0
PRODID:researchseminars.org
CALSCALE:GREGORIAN
X-WR-CALNAME:researchseminars.org
BEGIN:VEVENT
SUMMARY:Yoshiko Ogata (University of Tokyo)
DTSTART:20210104T130000Z
DTEND:20210104T140000Z
DTSTAMP:20260423T024537Z
UID:CDM2020/1
DESCRIPTION:Title: <a href="https://researchseminars.org/talk/CDM2020/1/">
 Classification of symmetry protected topological phases in quantum spin ch
 ains</a>\nby Yoshiko Ogata (University of Tokyo) as part of Current develo
 pments in mathematics 2020\n\nAbstract: TBA\n
LOCATION:https://researchseminars.org/talk/CDM2020/1/
END:VEVENT
END:VCALENDAR
