BEGIN:VCALENDAR
VERSION:2.0
PRODID:researchseminars.org
CALSCALE:GREGORIAN
X-WR-CALNAME:researchseminars.org
BEGIN:VEVENT
SUMMARY:Joan Lind (University of Tennessee)
DTSTART:20220208T140000Z
DTEND:20220208T150000Z
DTSTAMP:20260422T201236Z
UID:CAvid/64
DESCRIPTION:Title: <a href="https://researchseminars.org/talk/CAvid/64/">T
 he Loewner equation with complex-valued driving functions</a>\nby Joan Lin
 d (University of Tennessee) as part of CAvid: Complex Analysis video semin
 ar\n\nLecture held in N/A.\n\nAbstract\nThe chordal Loewner equation provi
 des a correspondence between real-valued functions\, called driving functi
 ons\, and certain growing 2-dimensional sets\, called hulls.  In this talk
 \, we will consider the generalization to complex-valued driving functions
 \, which was first studied by Huy Tran.  We will discuss some key differen
 ces between the hulls in the complex-valued setting and those in the real-
 valued setting\, including the question of the phase transition from simpl
 e-curve hulls.  This is joint work with Jeffrey Utley.\n
LOCATION:https://researchseminars.org/talk/CAvid/64/
END:VEVENT
END:VCALENDAR
