BEGIN:VCALENDAR
VERSION:2.0
PRODID:researchseminars.org
CALSCALE:GREGORIAN
X-WR-CALNAME:researchseminars.org
BEGIN:VEVENT
SUMMARY:Kerstin Jordaan (University of South Africa)
DTSTART:20201208T140000Z
DTEND:20201208T150000Z
DTSTAMP:20260422T201706Z
UID:CAvid/24
DESCRIPTION:Title: <a href="https://researchseminars.org/talk/CAvid/24/">A
  characterisation of Askey-Wilson polynomials and the indeterminate moment
  problem associated with a limiting case</a>\nby Kerstin Jordaan (Universi
 ty of South Africa) as part of CAvid: Complex Analysis video seminar\n\nLe
 cture held in N/A.\n\nAbstract\n(Joint work with M. Kenfack Nangho)\n\nIn 
 this talk I will complete and prove a conjecture concerning a characterisi
 ng relation for Askey-Wilson orthogonal polynomials and study a limiting c
 ase of Askey-Wilson polynomials when one of the parameters goes to infinit
 y. Solutions to the associated indeterminate moment problem  are found and
  an orthogonality relation is established.\n
LOCATION:https://researchseminars.org/talk/CAvid/24/
END:VEVENT
END:VCALENDAR
