BEGIN:VCALENDAR
VERSION:2.0
PRODID:researchseminars.org
CALSCALE:GREGORIAN
X-WR-CALNAME:researchseminars.org
BEGIN:VEVENT
SUMMARY:Shamil Makhmutov (Sultan Qaboos University\, Oman)
DTSTART:20201013T130000Z
DTEND:20201013T140000Z
DTSTAMP:20260422T201551Z
UID:CAvid/16
DESCRIPTION:Title: <a href="https://researchseminars.org/talk/CAvid/16/">G
 rowth estimates for meromorphic solutions of higher order algebraic differ
 ential equations</a>\nby Shamil Makhmutov (Sultan Qaboos University\, Oman
 ) as part of CAvid: Complex Analysis video seminar\n\nLecture held in N/A.
 \n\nAbstract\nPointwise growth estimates for the spherical derivative of s
 olutions of the first order algebraic differential equations are obtained.
  \nA generalization of this result to higher order equations is also given
 . \nWe discuss the related question of when for a given class X of meromor
 phic functions in the unit disc\, \ndefined by means of the spherical deri
 vative and integer $n$\, $n>1$\, condition $f^n \\in X$ implies $f \\in X$
 . \nAn affirmative answer to this is given in the case of UBC and some oth
 er classes.  \nHowever\, there are classes when the answer is negative.\n
LOCATION:https://researchseminars.org/talk/CAvid/16/
END:VEVENT
END:VCALENDAR
