BEGIN:VCALENDAR
VERSION:2.0
PRODID:researchseminars.org
CALSCALE:GREGORIAN
X-WR-CALNAME:researchseminars.org
BEGIN:VEVENT
SUMMARY:John Ryan (University of Arkansas)
DTSTART:20240507T130000Z
DTEND:20240507T140000Z
DTSTAMP:20260422T201550Z
UID:CAvid/121
DESCRIPTION:Title: <a href="https://researchseminars.org/talk/CAvid/121/">
 From Dirac type operators to Bosonic Laplacians</a>\nby John Ryan (Univers
 ity of Arkansas) as part of CAvid: Complex Analysis video seminar\n\nLectu
 re held in N/A.\n\nAbstract\nLurking behind most familiar second order par
 tial differential operators there is a first order differential operator. 
 The familiar second order operators include the Laplace operator\, the \n$
 p$-Laplacian\, the conformal Laplacian on the sphere and the Maxwell opera
 tor. \n\nAll of these operators are conformally invariant. \n\nWe shall in
 troduce these operators and associated integral operators together with so
 me of their basic properties. \n\nThis is joint work with Chao Ding\, Phou
 c Tai Nguyen and the late Raymond Walter.\n
LOCATION:https://researchseminars.org/talk/CAvid/121/
END:VEVENT
END:VCALENDAR
