BEGIN:VCALENDAR
VERSION:2.0
PRODID:researchseminars.org
CALSCALE:GREGORIAN
X-WR-CALNAME:researchseminars.org
BEGIN:VEVENT
SUMMARY:Liz Vivas (Ohio State University)
DTSTART:20231114T140000Z
DTEND:20231114T150000Z
DTSTAMP:20260422T201502Z
UID:CAvid/112
DESCRIPTION:Title: <a href="https://researchseminars.org/talk/CAvid/112/">
 Dimension results on generalized Bergman spaces</a>\nby Liz Vivas (Ohio St
 ate University) as part of CAvid: Complex Analysis video seminar\n\nLectur
 e held in N/A.\n\nAbstract\nWiegerinck proved that the Bergman space over 
 any domain in the complex plane is either trivial or infinite dimensional.
  In this talk I will discuss various generalizations and open questions re
 lated to this theorem. I will survey the case of the complex plane being r
 eplaced by C^n as well as a domain in a compact Riemann Surface.\n\nThe ta
 lked is based in joint work with A-K. Gallagher and P. Gupta.\n
LOCATION:https://researchseminars.org/talk/CAvid/112/
END:VEVENT
END:VCALENDAR
