BEGIN:VCALENDAR
VERSION:2.0
PRODID:researchseminars.org
CALSCALE:GREGORIAN
X-WR-CALNAME:researchseminars.org
BEGIN:VEVENT
SUMMARY:Myrto Manolaki (University College Dublin)
DTSTART:20200512T130000Z
DTEND:20200512T140000Z
DTSTAMP:20260422T201242Z
UID:CAvid/1
DESCRIPTION:Title: <a href="https://researchseminars.org/talk/CAvid/1/">Me
 rgelyan-type theorems in several complex variables</a>\nby Myrto Manolaki 
 (University College Dublin) as part of CAvid: Complex Analysis video semin
 ar\n\nLecture held in N/A.\nAbstract: TBA\n
LOCATION:https://researchseminars.org/talk/CAvid/1/
END:VEVENT
END:VCALENDAR
