BEGIN:VCALENDAR
VERSION:2.0
PRODID:researchseminars.org
CALSCALE:GREGORIAN
X-WR-CALNAME:researchseminars.org
BEGIN:VEVENT
SUMMARY:Filippo Bracci (University of Roma Tor Vergata)
DTSTART:20200507T150000Z
DTEND:20200507T160000Z
DTSTAMP:20260423T021117Z
UID:CASit/1
DESCRIPTION:Title: <a href="https://researchseminars.org/talk/CASit/1/">Gr
 omov Hyperbolicity in complex analysis</a>\nby Filippo Bracci (University 
 of Roma Tor Vergata) as part of Complex analysis seminar\n\nAbstract: TBA\
 n
LOCATION:https://researchseminars.org/talk/CASit/1/
END:VEVENT
END:VCALENDAR
