BEGIN:VCALENDAR
VERSION:2.0
PRODID:researchseminars.org
CALSCALE:GREGORIAN
X-WR-CALNAME:researchseminars.org
BEGIN:VEVENT
SUMMARY:Jonathan Fraser (St. Andrews University\, UK)
DTSTART:20250523T143000Z
DTEND:20250523T145500Z
DTSTAMP:20260423T041655Z
UID:CANT2025/61
DESCRIPTION:Title: <a href="https://researchseminars.org/talk/CANT2025/61/
 ">Averages of the Fourier transform in finite fields</a>\nby Jonathan Fras
 er (St. Andrews University\, UK) as part of Combinatorial and additive num
 ber theory (CANT 2025)\n\nLecture held in CUNY Graduate Center - Science C
 enter (4th floor).\n\nAbstract\nDiscrete Fourier analysis is a useful tool
  in various counting problems in vector spaces over finite fields.  I will
  mention some results in this direction\, with emphasis on a new approach 
 based on quantifying Fourier decay via a spectrum of exponents coming from
  certain $L^p$ averages.\n
LOCATION:https://researchseminars.org/talk/CANT2025/61/
END:VEVENT
END:VCALENDAR
