BEGIN:VCALENDAR
VERSION:2.0
PRODID:researchseminars.org
CALSCALE:GREGORIAN
X-WR-CALNAME:researchseminars.org
BEGIN:VEVENT
SUMMARY:Noah Lebowitz-Lockard (University of Texas\, Tyler\, TX)
DTSTART:20230526T160000Z
DTEND:20230526T162500Z
DTSTAMP:20260423T024829Z
UID:CANT2023/58
DESCRIPTION:Title: <a href="https://researchseminars.org/talk/CANT2023/58/
 ">Long runs of numbers with the same number of divisors</a>\nby Noah Lebow
 itz-Lockard (University of Texas\, Tyler\, TX) as part of Combinatorial an
 d additive number theory (CANT 2023)\n\nLecture held in Room 4102 in CUNY 
 Grad Center.\nAbstract: TBA\n
LOCATION:https://researchseminars.org/talk/CANT2023/58/
END:VEVENT
END:VCALENDAR
