BEGIN:VCALENDAR
VERSION:2.0
PRODID:researchseminars.org
CALSCALE:GREGORIAN
X-WR-CALNAME:researchseminars.org
BEGIN:VEVENT
SUMMARY:Aled Walker (King's College London\, UK)
DTSTART:20230526T140000Z
DTEND:20230526T142500Z
DTSTAMP:20260423T041654Z
UID:CANT2023/54
DESCRIPTION:Title: <a href="https://researchseminars.org/talk/CANT2023/54/
 ">On a Bohr set analogue of Chowla's conjecture</a>\nby Aled Walker (King'
 s College London\, UK) as part of Combinatorial and additive number theory
  (CANT 2023)\n\nLecture held in Room 4102 in CUNY Grad Center.\nAbstract: 
 TBA\n
LOCATION:https://researchseminars.org/talk/CANT2023/54/
END:VEVENT
END:VCALENDAR
