BEGIN:VCALENDAR
VERSION:2.0
PRODID:researchseminars.org
CALSCALE:GREGORIAN
X-WR-CALNAME:researchseminars.org
BEGIN:VEVENT
SUMMARY:David A. Ross (University of Hawai'i)
DTSTART:20230524T200000Z
DTEND:20230524T202500Z
DTSTAMP:20260423T041655Z
UID:CANT2023/33
DESCRIPTION:Title: <a href="https://researchseminars.org/talk/CANT2023/33/
 ">Some proofs about sequences in the spirit of Paul du Bois-Reymond</a>\nb
 y David A. Ross (University of Hawai'i) as part of Combinatorial and addit
 ive number theory (CANT 2023)\n\nLecture held in Room 4102 in CUNY Grad Ce
 nter.\nAbstract: TBA\n
LOCATION:https://researchseminars.org/talk/CANT2023/33/
END:VEVENT
END:VCALENDAR
