BEGIN:VCALENDAR
VERSION:2.0
PRODID:researchseminars.org
CALSCALE:GREGORIAN
X-WR-CALNAME:researchseminars.org
BEGIN:VEVENT
SUMMARY:Angel Kumchev (Towson University)
DTSTART:20230524T173000Z
DTEND:20230524T175500Z
DTSTAMP:20260423T041653Z
UID:CANT2023/28
DESCRIPTION:Title: <a href="https://researchseminars.org/talk/CANT2023/28/
 ">New versions of old results on gaps between squarefree integers</a>\nby 
 Angel Kumchev (Towson University) as part of Combinatorial and additive nu
 mber theory (CANT 2023)\n\nLecture held in Room 4102 in CUNY Grad Center.\
 nAbstract: TBA\n
LOCATION:https://researchseminars.org/talk/CANT2023/28/
END:VEVENT
END:VCALENDAR
