BEGIN:VCALENDAR
VERSION:2.0
PRODID:researchseminars.org
CALSCALE:GREGORIAN
X-WR-CALNAME:researchseminars.org
BEGIN:VEVENT
SUMMARY:Christoph Spiegel (Zuse Institute Berlin\, Germany)
DTSTART:20230524T153000Z
DTEND:20230524T155500Z
DTSTAMP:20260423T041653Z
UID:CANT2023/26
DESCRIPTION:Title: <a href="https://researchseminars.org/talk/CANT2023/26/
 ">Towards flag algebras in additive combinatorics</a>\nby Christoph Spiege
 l (Zuse Institute Berlin\, Germany) as part of Combinatorial and additive 
 number theory (CANT 2023)\n\nLecture held in Room 4102 in CUNY Grad Center
 .\nAbstract: TBA\n
LOCATION:https://researchseminars.org/talk/CANT2023/26/
END:VEVENT
END:VCALENDAR
