BEGIN:VCALENDAR
VERSION:2.0
PRODID:researchseminars.org
CALSCALE:GREGORIAN
X-WR-CALNAME:researchseminars.org
BEGIN:VEVENT
SUMMARY:Leonid Fel (Technion -- Israel Institute of Technology\, Israel)
DTSTART:20230524T150000Z
DTEND:20230524T152500Z
DTSTAMP:20260423T010356Z
UID:CANT2023/25
DESCRIPTION:Title: <a href="https://researchseminars.org/talk/CANT2023/25/
 ">Symmetric (not complete intersection) numerical  semigroups and syzygy i
 dentities</a>\nby Leonid Fel (Technion -- Israel Institute of Technology\,
  Israel) as part of Combinatorial and additive number theory (CANT 2023)\n
 \nLecture held in Room 4102 in CUNY Grad Center.\nAbstract: TBA\n
LOCATION:https://researchseminars.org/talk/CANT2023/25/
END:VEVENT
END:VCALENDAR
