BEGIN:VCALENDAR
VERSION:2.0
PRODID:researchseminars.org
CALSCALE:GREGORIAN
X-WR-CALNAME:researchseminars.org
BEGIN:VEVENT
SUMMARY:Sean Prendiville (Lancaster University\, UK)
DTSTART:20220527T130000Z
DTEND:20220527T132500Z
DTSTAMP:20260423T011437Z
UID:CANT2022/45
DESCRIPTION:Title: <a href="https://researchseminars.org/talk/CANT2022/45/
 ">Adapting the circle method for colourings</a>\nby Sean Prendiville (Lanc
 aster University\, UK) as part of Combinatorial and additive number theory
  (CANT 2022)\n\n\nAbstract\nFix your favourite Diophantine equation. If ea
 ch integer is coloured red\, blue or green\, how many solutions to your eq
 uation have all variables the same colour? We discuss how to adapt the Har
 dy-Littlewood circle method to yield a lower bound in certain problems of 
 this flavour.\n
LOCATION:https://researchseminars.org/talk/CANT2022/45/
END:VEVENT
END:VCALENDAR
