BEGIN:VCALENDAR
VERSION:2.0
PRODID:researchseminars.org
CALSCALE:GREGORIAN
X-WR-CALNAME:researchseminars.org
BEGIN:VEVENT
SUMMARY:Arturas Dubickas (Vilnius University\, Lithuania)
DTSTART:20210525T123000Z
DTEND:20210525T125500Z
DTSTAMP:20260423T011239Z
UID:CANT2020/98
DESCRIPTION:Title: <a href="https://researchseminars.org/talk/CANT2020/98/
 ">On polynomial Sidon sequences</a>\nby Arturas Dubickas (Vilnius Universi
 ty\, Lithuania) as part of Combinatorial and additive number theory (CANT 
 2021)\n\nAbstract: TBA\n
LOCATION:https://researchseminars.org/talk/CANT2020/98/
END:VEVENT
END:VCALENDAR
